BEGIN:VCALENDAR
VERSION:2.0
PRODID:-//www.gramonet.cz//GramonetCalLib 1.0//EN
CALSCALE:GREGORIAN
METHOD:PUBLISH
BEGIN:VEVENT
SUMMARY:10. výročí masopustu v Močovicích
LOCATION:Močovice
DTSTART:20260221T000000
DTEND:20260222T000000
UID:2026-04-19-19-36-08@infocaslav.cz
DTSTAMP:20260419T173608
Description:
END:VEVENT
END:VCALENDAR
