BEGIN:VCALENDAR
VERSION:2.0
PRODID:-//www.gramonet.cz//GramonetCalLib 1.0//EN
CALSCALE:GREGORIAN
METHOD:PUBLISH
BEGIN:VEVENT
SUMMARY:1000 mil ČESKOSLOVENSKÝCH
LOCATION:ul. Gen. Fr. Moravce
DTSTART:20230614T000000
DTEND:20230618T000000
UID:2026-04-19-19-33-03@infocaslav.cz
DTSTAMP:20260419T173303
Description:
END:VEVENT
END:VCALENDAR
