BEGIN:VCALENDAR
VERSION:2.0
PRODID:-//www.gramonet.cz//GramonetCalLib 1.0//EN
CALSCALE:GREGORIAN
METHOD:PUBLISH
BEGIN:VEVENT
SUMMARY:11. ročník nohejbalového turnaje trojic ve Starkoči
LOCATION:Obec Starkoč, hřiště u OÚ
DTSTART:20240706T000000
DTEND:20240707T000000
UID:2026-04-19-19-37-25@infocaslav.cz
DTSTAMP:20260419T173725
Description:Je to opět tady. Přijďte si zahrát nebo jen fandit. Občers
 tvení zajištěno. Registrovat se můžete na výše uvedené číslo od 
 8:30. Začátek akce je plánován od 9:00 daný den.
END:VEVENT
END:VCALENDAR
