BEGIN:VCALENDAR
VERSION:2.0
PRODID:-//www.gramonet.cz//GramonetCalLib 1.0//EN
CALSCALE:GREGORIAN
METHOD:PUBLISH
BEGIN:VEVENT
SUMMARY:14. ročník celostátní akce Měsíc věží a rozhleden
LOCATION:
DTSTART:20250928T000000
DTEND:20251029T000000
UID:2026-04-19-21-00-11@infocaslav.cz
DTSTAMP:20260419T190011
Description:
END:VEVENT
END:VCALENDAR
