BEGIN:VCALENDAR
VERSION:2.0
PRODID:-//www.gramonet.cz//GramonetCalLib 1.0//EN
CALSCALE:GREGORIAN
METHOD:PUBLISH
BEGIN:VEVENT
SUMMARY:15.ročník DÝŇOBRANÍ
LOCATION:Hortis - Čáslav
DTSTART:20241005T000000
DTEND:20241006T000000
UID:2026-04-19-19-32-53@infocaslav.cz
DTSTAMP:20260419T173253
Description:15.ročník DÝŇOBRANÍ se koná v zahradním centru Hortis-Č
 áslav.\nOtevřeno v tento den do 19.30 hod.\nDen plný zábavy.
END:VEVENT
END:VCALENDAR
