BEGIN:VCALENDAR
VERSION:2.0
PRODID:-//www.gramonet.cz//GramonetCalLib 1.0//EN
CALSCALE:GREGORIAN
METHOD:PUBLISH
BEGIN:VEVENT
SUMMARY:16. Mezinárodní hudební festival
LOCATION:Kutná Hora
DTSTART:20230603T000000
DTEND:20230612T000000
UID:2026-04-19-21-08-00@infocaslav.cz
DTSTAMP:20260419T190800
Description:
END:VEVENT
END:VCALENDAR
