BEGIN:VCALENDAR
VERSION:2.0
PRODID:-//www.gramonet.cz//GramonetCalLib 1.0//EN
CALSCALE:GREGORIAN
METHOD:PUBLISH
BEGIN:VEVENT
SUMMARY:16.ročník Dýňobraní v ZC Hortis-Čáslav
LOCATION:HORTISCENTRUM, s.r.o. Čáslav
DTSTART:20251004T000000
DTEND:20251005T000000
UID:2026-04-19-21-00-13@infocaslav.cz
DTSTAMP:20260419T190013
Description:
END:VEVENT
END:VCALENDAR
