BEGIN:VCALENDAR
VERSION:2.0
PRODID:-//www.gramonet.cz//GramonetCalLib 1.0//EN
CALSCALE:GREGORIAN
METHOD:PUBLISH
BEGIN:VEVENT
SUMMARY:Mezinárodní hudební festival Kutná Hora 2025 – 18. ročník
LOCATION:Kutná hora
DTSTART:20250606T000000
DTEND:20250616T000000
UID:2026-04-19-21-08-35@infocaslav.cz
DTSTAMP:20260419T190835
Description:
END:VEVENT
END:VCALENDAR
