BEGIN:VCALENDAR
VERSION:2.0
PRODID:-//www.gramonet.cz//GramonetCalLib 1.0//EN
CALSCALE:GREGORIAN
METHOD:PUBLISH
BEGIN:VEVENT
SUMMARY:21. ples města Čáslavi
LOCATION:hotel Grand
DTSTART:20230107T000000
DTEND:20230108T000000
UID:2026-04-19-19-32-57@infocaslav.cz
DTSTAMP:20260419T173257
Description:
END:VEVENT
END:VCALENDAR
