BEGIN:VCALENDAR
VERSION:2.0
PRODID:-//www.gramonet.cz//GramonetCalLib 1.0//EN
CALSCALE:GREGORIAN
METHOD:PUBLISH
BEGIN:VEVENT
SUMMARY:23. Ples města Čáslav
LOCATION:Hotel Grand Čáslav
DTSTART:20250111T000000
DTEND:20250112T000000
UID:2026-04-19-19-32-09@infocaslav.cz
DTSTAMP:20260419T173209
Description:
END:VEVENT
END:VCALENDAR
