BEGIN:VCALENDAR
VERSION:2.0
PRODID:-//www.gramonet.cz//GramonetCalLib 1.0//EN
CALSCALE:GREGORIAN
METHOD:PUBLISH
BEGIN:VEVENT
SUMMARY:30. setkání příznivců létání
LOCATION:Letiště Rohozec
DTSTART:20220806T000000
DTEND:20220807T000000
UID:2026-04-19-19-26-41@infocaslav.cz
DTSTAMP:20260419T172641
Description:
END:VEVENT
END:VCALENDAR
