BEGIN:VCALENDAR
VERSION:2.0
PRODID:-//www.gramonet.cz//GramonetCalLib 1.0//EN
CALSCALE:GREGORIAN
METHOD:PUBLISH
BEGIN:VEVENT
SUMMARY:33.ročník Štěpánského běhu v Čáslavi
LOCATION:Lesopark Vodranty Čáslav
DTSTART:20241226T000000
DTEND:20241227T000000
UID:2026-04-19-19-36-14@infocaslav.cz
DTSTAMP:20260419T173614
Description:
END:VEVENT
END:VCALENDAR
