BEGIN:VCALENDAR
VERSION:2.0
PRODID:-//www.gramonet.cz//GramonetCalLib 1.0//EN
CALSCALE:GREGORIAN
METHOD:PUBLISH
BEGIN:VEVENT
SUMMARY:4. kolo KPD přípravek
LOCATION:
DTSTART:20240908T000000
DTEND:20240909T000000
UID:2026-04-19-21-05-36@infocaslav.cz
DTSTAMP:20260419T190536
Description:AC Čáslav srdečně zve na 4. kolo KPD přípravek\, které s
 e koná v neděli 8. 9. 2024 v 9:30 hod.
END:VEVENT
END:VCALENDAR
