BEGIN:VCALENDAR
VERSION:2.0
PRODID:-//www.gramonet.cz//GramonetCalLib 1.0//EN
CALSCALE:GREGORIAN
METHOD:PUBLISH
BEGIN:VEVENT
SUMMARY:4 ROKEŘI s operní pěvkyní
LOCATION:Dusíkovo divadlo Čáslav
DTSTART:20250402T000000
DTEND:20250403T000000
UID:2026-04-19-19-35-17@infocaslav.cz
DTSTAMP:20260419T173517
Description:
END:VEVENT
END:VCALENDAR
