BEGIN:VCALENDAR
VERSION:2.0
PRODID:-//www.gramonet.cz//GramonetCalLib 1.0//EN
CALSCALE:GREGORIAN
METHOD:PUBLISH
BEGIN:VEVENT
SUMMARY:5. FESTIVAL DECHOVÝCH HUDEB V ČÁSLAVI
LOCATION:Dusíkovo divadlo
DTSTART:20221009T000000
DTEND:20221010T000000
UID:2026-04-19-19-36-09@infocaslav.cz
DTSTAMP:20260419T173609
Description:
END:VEVENT
END:VCALENDAR
