BEGIN:VCALENDAR
VERSION:2.0
PRODID:-//www.gramonet.cz//GramonetCalLib 1.0//EN
CALSCALE:GREGORIAN
METHOD:PUBLISH
BEGIN:VEVENT
SUMMARY:53. Banjo Jamboree
LOCATION:Areál letního kina a koupaliště Vodranty Čáslav
DTSTART:20250613T000000
DTEND:20250615T000000
UID:2026-04-19-19-32-07@infocaslav.cz
DTSTAMP:20260419T173207
Description:
END:VEVENT
END:VCALENDAR
