BEGIN:VCALENDAR
VERSION:2.0
PRODID:-//www.gramonet.cz//GramonetCalLib 1.0//EN
CALSCALE:GREGORIAN
METHOD:PUBLISH
BEGIN:VEVENT
SUMMARY:6. FESTIVAL DECHOVÝCH HUDEB
LOCATION:Dusíkovo divadlo
DTSTART:20231015T000000
DTEND:20231016T000000
UID:2026-04-19-19-26-38@infocaslav.cz
DTSTAMP:20260419T172638
Description:
END:VEVENT
END:VCALENDAR
