BEGIN:VCALENDAR
VERSION:2.0
PRODID:-//www.gramonet.cz//GramonetCalLib 1.0//EN
CALSCALE:GREGORIAN
METHOD:PUBLISH
BEGIN:VEVENT
SUMMARY:8. Traktoriáda Brambory
LOCATION:Brambory
DTSTART:20250830T000000
DTEND:20250831T000000
UID:2026-04-19-19-26-12@infocaslav.cz
DTSTAMP:20260419T172612
Description:
END:VEVENT
END:VCALENDAR
