BEGIN:VCALENDAR
VERSION:2.0
PRODID:-//www.gramonet.cz//GramonetCalLib 1.0//EN
CALSCALE:GREGORIAN
METHOD:PUBLISH
BEGIN:VEVENT
SUMMARY:Advent a Vánoce v muzeum lidových staveb v Kouřimi
LOCATION:Kouřim
DTSTART:20221128T000000
DTEND:20230108T000000
UID:2026-04-19-21-07-18@infocaslav.cz
DTSTAMP:20260419T190718
Description:
END:VEVENT
END:VCALENDAR
