BEGIN:VCALENDAR
VERSION:2.0
PRODID:-//www.gramonet.cz//GramonetCalLib 1.0//EN
CALSCALE:GREGORIAN
METHOD:PUBLISH
BEGIN:VEVENT
SUMMARY:Advent mezi traktory
LOCATION:Muzeum zemědělské techniky
DTSTART:20231125T000000
DTEND:20231126T000000
UID:2026-04-19-21-04-07@infocaslav.cz
DTSTAMP:20260419T190407
Description:Srdečně vás zveme na poslední akci letošní sezóny 2023. 
 Vánoční atmosféru přivítáme v našem muzeu v sobotu 25. listopadu a
 kcí Advent mezi traktory.\n\nTěšit se můžete na vánoční výzdobu\,
  ale i na trhy. Pro děti bude připravené adventní tvoření.
END:VEVENT
END:VCALENDAR
