BEGIN:VCALENDAR
VERSION:2.0
PRODID:-//www.gramonet.cz//GramonetCalLib 1.0//EN
CALSCALE:GREGORIAN
METHOD:PUBLISH
BEGIN:VEVENT
SUMMARY:Advent na dotek
LOCATION:Kostel sv. Petra a Pavla
DTSTART:20231217T000000
DTEND:20231218T000000
UID:2026-04-19-19-29-34@infocaslav.cz
DTSTAMP:20260419T172934
Description:
END:VEVENT
END:VCALENDAR
