BEGIN:VCALENDAR
VERSION:2.0
PRODID:-//www.gramonet.cz//GramonetCalLib 1.0//EN
CALSCALE:GREGORIAN
METHOD:PUBLISH
BEGIN:VEVENT
SUMMARY:Advent na Kačině
LOCATION:Kačina
DTSTART:20231210T000000
DTEND:20231211T000000
UID:2026-04-19-19-31-20@infocaslav.cz
DTSTAMP:20260419T173120
Description:Adventní neděle bude na Kačině patřit oživeným prohlídk
 ám Chotkovských interiérů a vánočně vyzdobeným expozicím a výsta
 vám. V jedinečných prostorech zámeckých sklepů Vás čeká představ
 ení adventní zvyků a tradičních řemesel. V bývalé kočárovně nav
 štívíte tradiční staročeskou zabíjačku. Připraven je tématický 
 doprovodný program.
END:VEVENT
END:VCALENDAR
