BEGIN:VCALENDAR
VERSION:2.0
PRODID:-//www.gramonet.cz//GramonetCalLib 1.0//EN
CALSCALE:GREGORIAN
METHOD:PUBLISH
BEGIN:VEVENT
SUMMARY:Advent na Kačině
LOCATION:zámek Kačina
DTSTART:20221128T000000
DTEND:20221205T000000
UID:2026-04-19-21-03-25@infocaslav.cz
DTSTAMP:20260419T190325
Description:
END:VEVENT
END:VCALENDAR
