BEGIN:VCALENDAR
VERSION:2.0
PRODID:-//www.gramonet.cz//GramonetCalLib 1.0//EN
CALSCALE:GREGORIAN
METHOD:PUBLISH
BEGIN:VEVENT
SUMMARY:Advent na letišti
LOCATION:Letiště Podhořany.
DTSTART:20241130T000000
DTEND:20241201T000000
UID:2026-04-19-21-04-14@infocaslav.cz
DTSTAMP:20260419T190414
Description:
END:VEVENT
END:VCALENDAR
