BEGIN:VCALENDAR
VERSION:2.0
PRODID:-//www.gramonet.cz//GramonetCalLib 1.0//EN
CALSCALE:GREGORIAN
METHOD:PUBLISH
BEGIN:VEVENT
SUMMARY:Adventní dílna
LOCATION:Knihovna
DTSTART:20221207T000000
DTEND:20221208T000000
UID:2026-04-19-21-02-29@infocaslav.cz
DTSTAMP:20260419T190229
Description:
END:VEVENT
END:VCALENDAR
