BEGIN:VCALENDAR
VERSION:2.0
PRODID:-//www.gramonet.cz//GramonetCalLib 1.0//EN
CALSCALE:GREGORIAN
METHOD:PUBLISH
BEGIN:VEVENT
SUMMARY:Adventní dobročinný trh
LOCATION:Evangelická fara
DTSTART:20221204T000000
DTEND:20221205T000000
UID:2026-04-19-19-33-56@infocaslav.cz
DTSTAMP:20260419T173356
Description:
END:VEVENT
END:VCALENDAR
