BEGIN:VCALENDAR
VERSION:2.0
PRODID:-//www.gramonet.cz//GramonetCalLib 1.0//EN
CALSCALE:GREGORIAN
METHOD:PUBLISH
BEGIN:VEVENT
SUMMARY:Adventní kavárnička s punčem
LOCATION:kavárna Diakonie
DTSTART:20221215T000000
DTEND:20221216T000000
UID:2026-04-19-19-32-59@infocaslav.cz
DTSTAMP:20260419T173259
Description:
END:VEVENT
END:VCALENDAR
