BEGIN:VCALENDAR
VERSION:2.0
PRODID:-//www.gramonet.cz//GramonetCalLib 1.0//EN
CALSCALE:GREGORIAN
METHOD:PUBLISH
BEGIN:VEVENT
SUMMARY:Adventní koncert
LOCATION:Evangelický kostel Čáslav
DTSTART:20251130T000000
DTEND:20251201T000000
UID:2026-04-19-19-30-59@infocaslav.cz
DTSTAMP:20260419T173059
Description:
END:VEVENT
END:VCALENDAR
