BEGIN:VCALENDAR
VERSION:2.0
PRODID:-//www.gramonet.cz//GramonetCalLib 1.0//EN
CALSCALE:GREGORIAN
METHOD:PUBLISH
BEGIN:VEVENT
SUMMARY:Adventní koncert na radnici
LOCATION:Radnice v Čáslavi
DTSTART:20231205T000000
DTEND:20231206T000000
UID:2026-04-19-19-26-33@infocaslav.cz
DTSTAMP:20260419T172633
Description:Koncert na radničních schodech v 1. patře. Vystoupí klienti
  domova Laguna Psáry v 17 hodin.
END:VEVENT
END:VCALENDAR
