BEGIN:VCALENDAR
VERSION:2.0
PRODID:-//www.gramonet.cz//GramonetCalLib 1.0//EN
CALSCALE:GREGORIAN
METHOD:PUBLISH
BEGIN:VEVENT
SUMMARY:Adventní koncert před radnicí
LOCATION:Náměstí Jana Žižky z Trocnova
DTSTART:20231210T000000
DTEND:20231211T000000
UID:2026-04-19-19-33-24@infocaslav.cz
DTSTAMP:20260419T173324
Description:Město Čáslav zachová tradici rozsvěcení oken na radnici. 
 Každá adventní neděle bude ve znamení doprovodného koncertu vždy od
  18:00 před budovou radnice. Přijďte načerpat sváteční atmosféru d
 íky poslechu vánočních koled v podání Žesťového souboru pana uči
 tele Táborského.
END:VEVENT
END:VCALENDAR
