BEGIN:VCALENDAR
VERSION:2.0
PRODID:-//www.gramonet.cz//GramonetCalLib 1.0//EN
CALSCALE:GREGORIAN
METHOD:PUBLISH
BEGIN:VEVENT
SUMMARY:Adventní koncert před radnicí
LOCATION:Náměstí Jana Žižky z Trocnova
DTSTART:20231217T000000
DTEND:20231218T000000
UID:2026-04-19-19-34-29@infocaslav.cz
DTSTAMP:20260419T173429
Description:Město Čáslav zachová tradici rozsvěcení oken na radnici. 
 Každá adventní neděle bude ve znamení doprovodného koncertu vždy od
  18:00 před budovou radnice. Přijďte načerpat sváteční atmosféru a
  poslechnout si úpravy adventních a vánočních písní v podání saxo
 fonového kvarteta pana učitele Krincvaje.
END:VEVENT
END:VCALENDAR
