BEGIN:VCALENDAR
VERSION:2.0
PRODID:-//www.gramonet.cz//GramonetCalLib 1.0//EN
CALSCALE:GREGORIAN
METHOD:PUBLISH
BEGIN:VEVENT
SUMMARY:Adventní koncerty
LOCATION:Nám. Jana Žižky z Trocnova, Čáslav
DTSTART:20241204T000000
DTEND:20241225T000000
UID:2026-04-19-19-26-23@infocaslav.cz
DTSTAMP:20260419T172623
Description:
END:VEVENT
END:VCALENDAR
