BEGIN:VCALENDAR
VERSION:2.0
PRODID:-//www.gramonet.cz//GramonetCalLib 1.0//EN
CALSCALE:GREGORIAN
METHOD:PUBLISH
BEGIN:VEVENT
SUMMARY:Adventní koncerty Starkoč
LOCATION:Kostel Nanebevzetí Panny Marie Starkoč
DTSTART:20241207T000000
DTEND:20241225T000000
UID:2026-04-19-19-32-57@infocaslav.cz
DTSTAMP:20260419T173257
Description:
END:VEVENT
END:VCALENDAR
