BEGIN:VCALENDAR
VERSION:2.0
PRODID:-//www.gramonet.cz//GramonetCalLib 1.0//EN
CALSCALE:GREGORIAN
METHOD:PUBLISH
BEGIN:VEVENT
SUMMARY:Adventní neděle v Kouřimi
LOCATION:Muzeum lidových staveb v Kouřimi
DTSTART:20231217T000000
DTEND:20231218T000000
UID:2026-04-19-19-33-02@infocaslav.cz
DTSTAMP:20260419T173302
Description:
END:VEVENT
END:VCALENDAR
