BEGIN:VCALENDAR
VERSION:2.0
PRODID:-//www.gramonet.cz//GramonetCalLib 1.0//EN
CALSCALE:GREGORIAN
METHOD:PUBLISH
BEGIN:VEVENT
SUMMARY:Adventní setkání při svíčkách
LOCATION:Evangelický kostel Čáslav
DTSTART:20241207T000000
DTEND:20241208T000000
UID:2026-04-19-19-32-58@infocaslav.cz
DTSTAMP:20260419T173258
Description:
END:VEVENT
END:VCALENDAR
