BEGIN:VCALENDAR
VERSION:2.0
PRODID:-//www.gramonet.cz//GramonetCalLib 1.0//EN
CALSCALE:GREGORIAN
METHOD:PUBLISH
BEGIN:VEVENT
SUMMARY:Adventní věnec – workshop
LOCATION:Městské muzeum Čáslav
DTSTART:20241129T000000
DTEND:20241130T000000
UID:2026-04-19-19-29-38@infocaslav.cz
DTSTAMP:20260419T172938
Description:
END:VEVENT
END:VCALENDAR
