BEGIN:VCALENDAR
VERSION:2.0
PRODID:-//www.gramonet.cz//GramonetCalLib 1.0//EN
CALSCALE:GREGORIAN
METHOD:PUBLISH
BEGIN:VEVENT
SUMMARY:Amélie z Montmartru
LOCATION:Kino Miloše Formana, Jeníkovská 138/25, 28601
DTSTART:20220511T000000
DTEND:20220512T000000
UID:2026-04-19-19-32-13@infocaslav.cz
DTSTAMP:20260419T173213
Description:
END:VEVENT
END:VCALENDAR
