BEGIN:VCALENDAR
VERSION:2.0
PRODID:-//www.gramonet.cz//GramonetCalLib 1.0//EN
CALSCALE:GREGORIAN
METHOD:PUBLISH
BEGIN:VEVENT
SUMMARY:Ameriky na Kačině 3
LOCATION:Zámek Kačina
DTSTART:20250601T000000
DTEND:20250602T000000
UID:2026-04-19-21-05-30@infocaslav.cz
DTSTAMP:20260419T190530
Description:Americká auta všech ročníků a kategorií se opět po roce 
 sjedou na Kačině. Přijďte se podívat na několik desítek nablýskan
 ch veteránů i vozidel novější výroby.
END:VEVENT
END:VCALENDAR
