BEGIN:VCALENDAR
VERSION:2.0
PRODID:-//www.gramonet.cz//GramonetCalLib 1.0//EN
CALSCALE:GREGORIAN
METHOD:PUBLISH
BEGIN:VEVENT
SUMMARY:Ani kočka ani pes
LOCATION:Dusíkovo divadlo Čáslav
DTSTART:20251020T000000
DTEND:20251021T000000
UID:2026-04-19-20-57-31@infocaslav.cz
DTSTAMP:20260419T185731
Description:
END:VEVENT
END:VCALENDAR
