BEGIN:VCALENDAR
VERSION:2.0
PRODID:-//www.gramonet.cz//GramonetCalLib 1.0//EN
CALSCALE:GREGORIAN
METHOD:PUBLISH
BEGIN:VEVENT
SUMMARY:Archeologické hrátky na hrádku
LOCATION:Hrádek, Čáslav
DTSTART:20250927T000000
DTEND:20250928T000000
UID:2026-04-19-19-26-56@infocaslav.cz
DTSTAMP:20260419T172656
Description:
END:VEVENT
END:VCALENDAR
