BEGIN:VCALENDAR
VERSION:2.0
PRODID:-//www.gramonet.cz//GramonetCalLib 1.0//EN
CALSCALE:GREGORIAN
METHOD:PUBLISH
BEGIN:VEVENT
SUMMARY:Archeologické hrátky na Hrádku
LOCATION:Čáslav na Hrádku
DTSTART:20241012T000000
DTEND:20241013T000000
UID:2026-04-19-21-07-10@infocaslav.cz
DTSTAMP:20260419T190710
Description:Zveme Vás na zábavné odpoledne\, které se uskuteční v rá
 mci Mezinárodního dne archeologie.
END:VEVENT
END:VCALENDAR
