BEGIN:VCALENDAR
VERSION:2.0
PRODID:-//www.gramonet.cz//GramonetCalLib 1.0//EN
CALSCALE:GREGORIAN
METHOD:PUBLISH
BEGIN:VEVENT
SUMMARY:Archeologické výzkumy "Včely Čáslavské" v kostele sv. Petra a
  Pavla
LOCATION:Dusíkovo divadlo - Nová scéna
DTSTART:20240319T000000
DTEND:20240320T000000
UID:2026-04-19-19-35-51@infocaslav.cz
DTSTAMP:20260419T173551
Description:
END:VEVENT
END:VCALENDAR
