BEGIN:VCALENDAR
VERSION:2.0
PRODID:-//www.gramonet.cz//GramonetCalLib 1.0//EN
CALSCALE:GREGORIAN
METHOD:PUBLISH
BEGIN:VEVENT
SUMMARY:Architekt Bohumír Kozák
LOCATION:Galerie městského muzea Čáslav, Jeníkovská 222
DTSTART:20250617T000000
DTEND:20251029T000000
UID:2026-04-19-19-33-32@infocaslav.cz
DTSTAMP:20260419T173332
Description:
END:VEVENT
END:VCALENDAR
