BEGIN:VCALENDAR
VERSION:2.0
PRODID:-//www.gramonet.cz//GramonetCalLib 1.0//EN
CALSCALE:GREGORIAN
METHOD:PUBLISH
BEGIN:VEVENT
SUMMARY:Argema
LOCATION:Hotel Grand Čáslav
DTSTART:20231228T000000
DTEND:20231229T000000
UID:2026-04-19-19-28-46@infocaslav.cz
DTSTAMP:20260419T172846
Description:
END:VEVENT
END:VCALENDAR
