BEGIN:VCALENDAR
VERSION:2.0
PRODID:-//www.gramonet.cz//GramonetCalLib 1.0//EN
CALSCALE:GREGORIAN
METHOD:PUBLISH
BEGIN:VEVENT
SUMMARY:Automobilové závody
LOCATION:Zemědělské muzeum
DTSTART:20230415T000000
DTEND:20230416T000000
UID:2026-04-19-21-06-10@infocaslav.cz
DTSTAMP:20260419T190610
Description:
END:VEVENT
END:VCALENDAR
