BEGIN:VCALENDAR
VERSION:2.0
PRODID:-//www.gramonet.cz//GramonetCalLib 1.0//EN
CALSCALE:GREGORIAN
METHOD:PUBLISH
BEGIN:VEVENT
SUMMARY:Až naprší a uschne
LOCATION:Dusíkovo divadlo Čáslav
DTSTART:20241010T000000
DTEND:20241011T000000
UID:2026-04-19-19-33-04@infocaslav.cz
DTSTAMP:20260419T173304
Description:Dusíkovo divadlo Vás zve na hru Až naprší a uschne\, ve č
 tvrtek 10.10. 2024 od 19:00.
END:VEVENT
END:VCALENDAR
