BEGIN:VCALENDAR
VERSION:2.0
PRODID:-//www.gramonet.cz//GramonetCalLib 1.0//EN
CALSCALE:GREGORIAN
METHOD:PUBLISH
BEGIN:VEVENT
SUMMARY:Banjo Jamboree
LOCATION:areál letního kina Vodranty
DTSTART:20260612T000000
DTEND:20260614T000000
UID:2026-04-19-19-26-14@infocaslav.cz
DTSTAMP:20260419T172614
Description:
END:VEVENT
END:VCALENDAR
