BEGIN:VCALENDAR
VERSION:2.0
PRODID:-//www.gramonet.cz//GramonetCalLib 1.0//EN
CALSCALE:GREGORIAN
METHOD:PUBLISH
BEGIN:VEVENT
SUMMARY:Banjo Jamboree
LOCATION:Letní kino Vodranty,  Rusalka
DTSTART:20220617T000000
DTEND:20220619T000000
UID:2026-04-19-19-30-55@infocaslav.cz
DTSTAMP:20260419T173055
Description:
END:VEVENT
END:VCALENDAR
