BEGIN:VCALENDAR
VERSION:2.0
PRODID:-//www.gramonet.cz//GramonetCalLib 1.0//EN
CALSCALE:GREGORIAN
METHOD:PUBLISH
BEGIN:VEVENT
SUMMARY:Barock - Art rockový koncert
LOCATION:Dusíkovo divadlo - Nová scéna
DTSTART:20240224T000000
DTEND:20240225T000000
UID:2026-04-19-19-33-11@infocaslav.cz
DTSTAMP:20260419T173311
Description:
END:VEVENT
END:VCALENDAR
