BEGIN:VCALENDAR
VERSION:2.0
PRODID:-//www.gramonet.cz//GramonetCalLib 1.0//EN
CALSCALE:GREGORIAN
METHOD:PUBLISH
BEGIN:VEVENT
SUMMARY:Barock
LOCATION:Dusíkovo divadlo - Nová scéna
DTSTART:20231021T000000
DTEND:20231022T000000
UID:2026-04-19-19-26-26@infocaslav.cz
DTSTAMP:20260419T172626
Description:
END:VEVENT
END:VCALENDAR
